BEGIN:VCALENDAR
VERSION:2.0
PRODID:-//eventon.com NONSGML v1.0//EN
CALSCALE:GREGORIAN
METHOD:PUBLISH
BEGIN:VEVENT
UID:69e5f68d140da
DTSTAMP:20260420T094901Z
DTSTART:20251206T143000Z
DTEND:20251206T235000Z
LOCATION:
SUMMARY:Ballet Theatre UK: A Christmas Carol
DESCRIPTION:This festive season\,  Ballet Theatre UK is thrilled to present
  the return of the beloved classic A Christmas Carol\,  back by popular dem
 and! Step into the heart of a traditional Victorian Christmas\,  where Char
 les Dickens’ timeless tale comes to life.&nbsp; Join Ebenezer Scrooge as 
 he’s visited by three enchanting ghosts\, [..]\nhttps://arlington-arts.co
 m/events/ballet-theatre-uk-a-christmas-carol/
URL:https://arlington-arts.com/events/ballet-theatre-uk-a-christmas-carol/
END:VEVENT
END:VCALENDAR