BEGIN:VCALENDAR
VERSION:2.0
PRODID:-//eventon.com NONSGML v1.0//EN
CALSCALE:GREGORIAN
METHOD:PUBLISH
BEGIN:VEVENT
UID:69ea9b41923e9
DTSTAMP:20260423T222049Z
DTSTART:20260515T193000Z
DTEND:20260515T235000Z
LOCATION:
SUMMARY:Oasiz
DESCRIPTION:OASIZ are one of the UK’s most authentic tribute bands a poin
 t proved in 2023 when a short clip of front man Steve performing as Liam we
 nt viral on social media with over half a million views. Many fans were con
 vinced the clip was actually of Liam Gallagher himself which[..]\nhttps://a
 rlington-arts.com/events/oasiz/
URL:https://arlington-arts.com/events/oasiz/
END:VEVENT
END:VCALENDAR