BEGIN:VCALENDAR
VERSION:2.0
PRODID:-//eventon.com NONSGML v1.0//EN
CALSCALE:GREGORIAN
METHOD:PUBLISH
BEGIN:VEVENT
UID:69ecfa42b286c
DTSTAMP:20260425T173042Z
DTSTART:20260411T200000Z
DTEND:20260411T235000Z
LOCATION:
SUMMARY:Joe Hicks (Support: Lydia Clowes)
DESCRIPTION:After a sold-out show on his last visit\,  acclaimed Newbury si
 nger-songwriter Joe Hicks returns to Arlington Arts to celebrate the releas
 e of his new album&nbsp;Before It Gets Dark. Blending intricate guitar comp
 osition and soaring falsetto with classic pop song-craft\,  Hicks released 
 his first solo single at the start of 2017[..]\nhttps://arlington-arts.com/
 events/joe-hicks/
URL:https://arlington-arts.com/events/joe-hicks/
END:VEVENT
END:VCALENDAR