BEGIN:VCALENDAR
VERSION:2.0
PRODID:-//eventon.com NONSGML v1.0//EN
CALSCALE:GREGORIAN
METHOD:PUBLISH
BEGIN:VEVENT
UID:69ed0e849444e
DTSTAMP:20260425T185708Z
DTSTART:20260410T190000Z
DTEND:20260410T225000Z
LOCATION:
SUMMARY:True Strays
DESCRIPTION:True Strays return with their sophomore album Never Ending Suns
 et — a bold\,  heart-on-sleeve fusion of alt-Americana\,  blues rock\,  a
 nd neo-psychedelia. Raw\,  anthemic\,  and unapologetically honest\,  the B
 ristol-based duo deliver a sound that feels both retro and cinematic\,  wit
 h towering choruses\,  thunderous riffs\,  and harmonies built on decades o
 f friendship.&nbsp;[..]\nhttps://arlington-arts.com/events/true-strays/
URL:https://arlington-arts.com/events/true-strays/
END:VEVENT
END:VCALENDAR