BEGIN:VCALENDAR
VERSION:2.0
PRODID:-//eventon.com NONSGML v1.0//EN
CALSCALE:GREGORIAN
METHOD:PUBLISH
BEGIN:VEVENT
UID:69e5fcf263cfa
DTSTAMP:20260420T101618Z
DTSTART:20260528T140000Z
DTEND:20260528T235000Z
LOCATION:
SUMMARY:Jungle Adventure
DESCRIPTION:Jungle Adventure: A Magical Expedition Embark on an unforgettab
 le journey with Ranger Andy as he sets off on a daring quest to return the 
 legendary Akiki bird to its secret home deep in the heart of the enchanted 
 jungle!  Along the way\,  you'll encounter wild wonders\,  magical creatur
 es\,  and Andy's[..]\nhttps://arlington-arts.com/events/jungle-adventure/
URL:https://arlington-arts.com/events/jungle-adventure/
END:VEVENT
END:VCALENDAR