BEGIN:VCALENDAR
VERSION:2.0
PRODID:-//eventon.com NONSGML v1.0//EN
CALSCALE:GREGORIAN
METHOD:PUBLISH
BEGIN:VEVENT
UID:69e89cd8913fc
DTSTAMP:20260422T100304Z
DTSTART:20261219T143000Z
DTEND:20261219T235000Z
LOCATION:
SUMMARY:Ballet Theatre UK: The Snow Queen
DESCRIPTION:This festive season\,  Ballet Theatre UK is thrilled to present
  the return of the beloved classic A Christmas Carol\,  back by popular dem
 and! Step into the heart of a traditional Victorian Christmas\,  where Char
 les Dickens’ timeless tale comes to life.&nbsp; Join Ebenezer Scrooge as 
 he’s visited by three enchanting ghosts\, [..]\nhttps://arlington-arts.co
 m/events/ballet-theatre-uk-the-snow-queen-2/
URL:https://arlington-arts.com/events/ballet-theatre-uk-the-snow-queen-2/
END:VEVENT
END:VCALENDAR