BEGIN:VCALENDAR
VERSION:2.0
PRODID:-//eventon.com NONSGML v1.0//EN
CALSCALE:GREGORIAN
METHOD:PUBLISH
BEGIN:VEVENT
UID:69e6255f4cbe0
DTSTAMP:20260420T130847Z
DTSTART:20260530T190000Z
DTEND:20260530T235000Z
LOCATION:
SUMMARY:West Berkshire Ballet School: Cinderella
DESCRIPTION:West Berkshire Ballet School is excited to return to Arlington 
 Arts this May Half Term with their 3 Act Ballet production of Cinderella. T
 his enchanting children’s ballet retells the beloved story of Cinderella 
 through graceful movement\,  colourful characters\,  and dazzling imaginati
 on. Cinderella dreams of life beyond chores and dusty floors.[..]\nhttps://
 arlington-arts.com/events/west-berkshire-ballet-school-cinderella-2/
URL:https://arlington-arts.com/events/west-berkshire-ballet-school-cinderella-2/
END:VEVENT
END:VCALENDAR